BEGIN:VCALENDAR
PRODID:-//eluceo/ical//2.0/EN
VERSION:2.0
CALSCALE:GREGORIAN
BEGIN:VEVENT
UID:6035b3887e3770bdea6abbdd724de233
DTSTAMP:20260424T130452Z
SUMMARY:Rotary Jass RC Dübendorf
DESCRIPTION:
URL:https://rotary-duebendorf.ch/it/agenda/show/55069
DTSTART;TZID=Europe/Zurich:20150914T000000
DTEND;TZID=Europe/Zurich:20150914T000000
LOCATION:Rest. Zelgli
CATEGORIES:Rotary
END:VEVENT
BEGIN:VTIMEZONE
TZID:Europe/Zurich
BEGIN:DAYLIGHT
DTSTART:20150914T000000
TZNAME:CEST
TZOFFSETTO:+0200
TZOFFSETFROM:+0200
END:DAYLIGHT
END:VTIMEZONE
END:VCALENDAR
