BEGIN:VCALENDAR
PRODID:-//eluceo/ical//2.0/EN
VERSION:2.0
CALSCALE:GREGORIAN
BEGIN:VEVENT
UID:8648a520da070018009aefc8c582c705
DTSTAMP:20260420T085620Z
SUMMARY:Agenda RC Dübendorf 1. Quartal 2015
DESCRIPTION:
URL:https://rotary-duebendorf.ch/it/agenda/show/54965
DTSTART;TZID=Europe/Zurich:20150827T000000
DTEND;TZID=Europe/Zurich:20150930T000000
LOCATION:Rest. Waldmannsburg
CATEGORIES:Rotary
END:VEVENT
BEGIN:VTIMEZONE
TZID:Europe/Zurich
BEGIN:DAYLIGHT
DTSTART:20150827T000000
TZNAME:CEST
TZOFFSETTO:+0200
TZOFFSETFROM:+0200
END:DAYLIGHT
END:VTIMEZONE
END:VCALENDAR
