BEGIN:VCALENDAR
PRODID:-//eluceo/ical//2.0/EN
VERSION:2.0
CALSCALE:GREGORIAN
BEGIN:VEVENT
UID:a9b57eeecb8cbe49b69de966d1e85064
DTSTAMP:20260424T101558Z
SUMMARY:Lunch / Vortrag ist abgesagt
DESCRIPTION:Referent: Mirko Basso\, KaPo Zürich
URL:https://rotary-duebendorf.ch/it/agenda/show/119288
DTSTART;TZID=Europe/Zurich:20210310T121000
DTEND;TZID=Europe/Zurich:20210310T133000
LOCATION:Rest. Waldmannsburg
CATEGORIES:Rotary
END:VEVENT
BEGIN:VTIMEZONE
TZID:Europe/Zurich
BEGIN:STANDARD
DTSTART:20210310T121000
TZNAME:CET
TZOFFSETTO:+0100
TZOFFSETFROM:+0100
END:STANDARD
END:VTIMEZONE
END:VCALENDAR
