BEGIN:VCALENDAR
PRODID:-//eluceo/ical//2.0/EN
VERSION:2.0
CALSCALE:GREGORIAN
BEGIN:VEVENT
UID:760c6200c8648ce09915f3d84b8e8817
DTSTAMP:20260420T135730Z
SUMMARY:Zoom-Vortrag von Martin Wunderli
DESCRIPTION:
URL:https://rotary-duebendorf.ch/it/agenda/show/119286
DTSTART;TZID=Europe/Zurich:20210224T130000
DTEND;TZID=Europe/Zurich:20210224T133000
LOCATION:---
CATEGORIES:Rotary
END:VEVENT
BEGIN:VTIMEZONE
TZID:Europe/Zurich
BEGIN:STANDARD
DTSTART:20210224T130000
TZNAME:CET
TZOFFSETTO:+0100
TZOFFSETFROM:+0100
END:STANDARD
END:VTIMEZONE
END:VCALENDAR
