BEGIN:VCALENDAR
PRODID:-//eluceo/ical//2.0/EN
VERSION:2.0
CALSCALE:GREGORIAN
BEGIN:VEVENT
UID:35e8c90608e20a8636525be6ed7c4b72
DTSTAMP:20260420T135424Z
SUMMARY:Rotary-Höck (Lunch ohne Referat) - anmelden via Doodle
DESCRIPTION:
URL:https://rotary-duebendorf.ch/it/agenda/show/119282
DTSTART;TZID=Europe/Zurich:20210106T121000
DTEND;TZID=Europe/Zurich:20210106T133000
LOCATION:Rest. Waldmannsburg
CATEGORIES:Rotary
END:VEVENT
BEGIN:VTIMEZONE
TZID:Europe/Zurich
BEGIN:STANDARD
DTSTART:20210106T121000
TZNAME:CET
TZOFFSETTO:+0100
TZOFFSETFROM:+0100
END:STANDARD
END:VTIMEZONE
END:VCALENDAR
