BEGIN:VCALENDAR
PRODID:-//eluceo/ical//2.0/EN
VERSION:2.0
CALSCALE:GREGORIAN
BEGIN:VEVENT
UID:d634328fe254c099421ab73dbd6111c0
DTSTAMP:20260420T135251Z
SUMMARY:Lunch ist abgesagt!!
DESCRIPTION:
URL:https://rotary-duebendorf.ch/it/agenda/show/119115
DTSTART;TZID=Europe/Zurich:20201118T121000
DTEND;TZID=Europe/Zurich:20201118T133000
LOCATION:-
CATEGORIES:Rotary
END:VEVENT
BEGIN:VTIMEZONE
TZID:Europe/Zurich
BEGIN:STANDARD
DTSTART:20201118T121000
TZNAME:CET
TZOFFSETTO:+0100
TZOFFSETFROM:+0100
END:STANDARD
END:VTIMEZONE
END:VCALENDAR
