BEGIN:VCALENDAR
PRODID:-//eluceo/ical//2.0/EN
VERSION:2.0
CALSCALE:GREGORIAN
BEGIN:VEVENT
UID:89f0f755840f0cf058236c7e598cd83f
DTSTAMP:20260420T135028Z
SUMMARY:Rotary-Höck (Anmeldung via Doodle) (wenn es nicht regnet)
DESCRIPTION:Referentin: Irene Homberger\, GUE Instructor
URL:https://rotary-duebendorf.ch/it/agenda/show/117900
DTSTART;TZID=Europe/Zurich:20210428T120000
DTEND;TZID=Europe/Zurich:20210428T134500
LOCATION:Rest. Waldmannsburg
CATEGORIES:Rotary
END:VEVENT
BEGIN:VTIMEZONE
TZID:Europe/Zurich
BEGIN:DAYLIGHT
DTSTART:20210428T120000
TZNAME:CEST
TZOFFSETTO:+0200
TZOFFSETFROM:+0200
END:DAYLIGHT
END:VTIMEZONE
END:VCALENDAR
