BEGIN:VCALENDAR
PRODID:-//eluceo/ical//2.0/EN
VERSION:2.0
CALSCALE:GREGORIAN
BEGIN:VEVENT
UID:dee43f0fa961e2c730d39c0a9252211f
DTSTAMP:20260424T101349Z
SUMMARY:Lunch ist abgesagt!!
DESCRIPTION:
URL:https://rotary-duebendorf.ch/it/agenda/show/115243
DTSTART;TZID=Europe/Zurich:20201125T190000
DTEND;TZID=Europe/Zurich:20201125T223000
LOCATION:-
CATEGORIES:Rotary
END:VEVENT
BEGIN:VTIMEZONE
TZID:Europe/Zurich
BEGIN:STANDARD
DTSTART:20201125T190000
TZNAME:CET
TZOFFSETTO:+0100
TZOFFSETFROM:+0100
END:STANDARD
END:VTIMEZONE
END:VCALENDAR
