BEGIN:VCALENDAR
PRODID:-//eluceo/ical//2.0/EN
VERSION:2.0
CALSCALE:GREGORIAN
BEGIN:VEVENT
UID:9109e495136a7e9381fa01dd84134b61
DTSTAMP:20260420T121900Z
SUMMARY:Lunch ist abgesagt!!
DESCRIPTION:
URL:https://rotary-duebendorf.ch/it/agenda/show/115242
DTSTART;TZID=Europe/Zurich:20201104T121000
DTEND;TZID=Europe/Zurich:20201104T133000
LOCATION:-
CATEGORIES:Rotary
END:VEVENT
BEGIN:VTIMEZONE
TZID:Europe/Zurich
BEGIN:STANDARD
DTSTART:20201104T121000
TZNAME:CET
TZOFFSETTO:+0100
TZOFFSETFROM:+0100
END:STANDARD
END:VTIMEZONE
END:VCALENDAR
