BEGIN:VCALENDAR
PRODID:-//eluceo/ical//2.0/EN
VERSION:2.0
CALSCALE:GREGORIAN
BEGIN:VEVENT
UID:73858e52ee16e9238e6c86a4a9c2499d
DTSTAMP:20260424T101200Z
SUMMARY:Plauderlunch
DESCRIPTION:
URL:https://rotary-duebendorf.ch/it/agenda/show/114515
DTSTART;TZID=Europe/Zurich:20200715T121500
DTEND;TZID=Europe/Zurich:20200715T133000
LOCATION:Rest. Waldmannsburg
CATEGORIES:Rotary
END:VEVENT
BEGIN:VTIMEZONE
TZID:Europe/Zurich
BEGIN:DAYLIGHT
DTSTART:20200715T121500
TZNAME:CEST
TZOFFSETTO:+0200
TZOFFSETFROM:+0200
END:DAYLIGHT
END:VTIMEZONE
END:VCALENDAR
