BEGIN:VCALENDAR
PRODID:-//eluceo/ical//2.0/EN
VERSION:2.0
CALSCALE:GREGORIAN
BEGIN:VEVENT
UID:b1916ade8baf00e48f38a8a09880ec41
DTSTAMP:20260420T134915Z
SUMMARY:Wanderung Jakob Stutz Weg (Sternenberg)
DESCRIPTION:Treffpunkt: Saland Bahnhof 09:15\nHinfahrt ÖV Stadelhofen S3 a
 b 08:20 – Stettbach ab 08:26 – W'thur S26\nab 08:43 – Saland 09:13\n
 Rückfahrten a. Bauma Bus 835 ab jeweils zur vollen Stunde – Pfäffikon
  
URL:https://rotary-duebendorf.ch/it/agenda/show/114445
DTSTART;TZID=Europe/Zurich:20200702T091500
DTEND;TZID=Europe/Zurich:20200702T180000
LOCATION:Treffpunkt: Donnerstag 2. Juli 2020 - Saland Bahnhof 09:15
CATEGORIES:Rotary
END:VEVENT
BEGIN:VTIMEZONE
TZID:Europe/Zurich
BEGIN:DAYLIGHT
DTSTART:20200702T091500
TZNAME:CEST
TZOFFSETTO:+0200
TZOFFSETFROM:+0200
END:DAYLIGHT
END:VTIMEZONE
END:VCALENDAR
