BEGIN:VCALENDAR
PRODID:-//eluceo/ical//2.0/EN
VERSION:2.0
CALSCALE:GREGORIAN
BEGIN:VEVENT
UID:381a3701311c3494ed55a8a85a1c132a
DTSTAMP:20260424T083536Z
SUMMARY:Lunch
DESCRIPTION:«Klassifikation» - Ein Notar stellt sich vor\nRelatore/i: Rot
 . René Quirici
URL:https://rotary-duebendorf.ch/it/agenda/show/100302
DTSTART;TZID=Europe/Zurich:20190904T121000
DTEND;TZID=Europe/Zurich:20190904T134500
LOCATION:Rest. Waldmannsburg
CATEGORIES:Rotary
END:VEVENT
BEGIN:VTIMEZONE
TZID:Europe/Zurich
BEGIN:DAYLIGHT
DTSTART:20190904T121000
TZNAME:CEST
TZOFFSETTO:+0200
TZOFFSETFROM:+0200
END:DAYLIGHT
END:VTIMEZONE
END:VCALENDAR
