BEGIN:VCALENDAR
PRODID:-//eluceo/ical//2.0/EN
VERSION:2.0
CALSCALE:GREGORIAN
BEGIN:VEVENT
UID:851c18c1f5c4467ef4a381a180d69a3c
DTSTAMP:20260422T092209Z
SUMMARY:Lunch
DESCRIPTION:«135 Jahre Comestibles» - eine Erfolgsgeschichte setzt sich f
 ort...\nRelatore/i: Luca Bianchi - führt seit Anfang 2017. zusammen mit D
 ario Bianchi\, das Traditionsunternehmen in der 5. Generation\n
URL:https://rotary-duebendorf.ch/it/agenda/show/100292
DTSTART;TZID=Europe/Zurich:20190717T121000
DTEND;TZID=Europe/Zurich:20190717T134500
LOCATION:Rest. Waldmannsburg
CATEGORIES:Rotary
END:VEVENT
BEGIN:VTIMEZONE
TZID:Europe/Zurich
BEGIN:DAYLIGHT
DTSTART:20190717T121000
TZNAME:CEST
TZOFFSETTO:+0200
TZOFFSETFROM:+0200
END:DAYLIGHT
END:VTIMEZONE
END:VCALENDAR
