BEGIN:VCALENDAR
PRODID:-//eluceo/ical//2.0/EN
VERSION:2.0
CALSCALE:GREGORIAN
BEGIN:VEVENT
UID:ac435714aa772c38aa11162a24f1cd88
DTSTAMP:20260421T085833Z
SUMMARY:Lunch
DESCRIPTION:Trivadis - Big Data\nFyrirlesari(ar): Martin Wunderli
URL:https://rotary-duebendorf.ch/is/agenda/show/97711
DTSTART;TZID=Europe/Zurich:20190313T121000
DTEND;TZID=Europe/Zurich:20190313T134500
LOCATION:Rest. Waldmannsburg
CATEGORIES:Rotary
END:VEVENT
BEGIN:VTIMEZONE
TZID:Europe/Zurich
BEGIN:STANDARD
DTSTART:20190313T121000
TZNAME:CET
TZOFFSETTO:+0100
TZOFFSETFROM:+0100
END:STANDARD
END:VTIMEZONE
END:VCALENDAR
