BEGIN:VCALENDAR
PRODID:-//eluceo/ical//2.0/EN
VERSION:2.0
CALSCALE:GREGORIAN
BEGIN:VEVENT
UID:3d17508bbf4e1b4bea36cf4581053cb1
DTSTAMP:20260419T192009Z
SUMMARY:Programm Januar bis Juni 2019
DESCRIPTION:
URL:https://rotary-duebendorf.ch/is/agenda/show/89679
DTSTART;TZID=Europe/Zurich:20190101T000000
DTEND;TZID=Europe/Zurich:20190630T000000
LOCATION:Rest. Waldmannsburg
CATEGORIES:Rotary
END:VEVENT
BEGIN:VTIMEZONE
TZID:Europe/Zurich
BEGIN:STANDARD
DTSTART:20190101T000000
TZNAME:CET
TZOFFSETTO:+0100
TZOFFSETFROM:+0100
END:STANDARD
BEGIN:DAYLIGHT
DTSTART:20190331T030000
TZNAME:CEST
TZOFFSETTO:+0200
TZOFFSETFROM:+0100
END:DAYLIGHT
END:VTIMEZONE
END:VCALENDAR
