BEGIN:VCALENDAR
PRODID:-//eluceo/ical//2.0/EN
VERSION:2.0
CALSCALE:GREGORIAN
BEGIN:VEVENT
UID:265db4b2f87261bf2349bce4ab53eb56
DTSTAMP:20260419T173511Z
SUMMARY:Programm Juli bis Dezember 2017
DESCRIPTION:
URL:https://rotary-duebendorf.ch/is/agenda/show/78577
DTSTART;TZID=Europe/Zurich:20170801T000000
DTEND;TZID=Europe/Zurich:20180101T000000
LOCATION:Rest. Waldmannsburg
CATEGORIES:Rotary
END:VEVENT
BEGIN:VTIMEZONE
TZID:Europe/Zurich
BEGIN:DAYLIGHT
DTSTART:20170801T000000
TZNAME:CEST
TZOFFSETTO:+0200
TZOFFSETFROM:+0200
END:DAYLIGHT
BEGIN:STANDARD
DTSTART:20171029T020000
TZNAME:CET
TZOFFSETTO:+0100
TZOFFSETFROM:+0200
END:STANDARD
END:VTIMEZONE
END:VCALENDAR
