BEGIN:VCALENDAR
PRODID:-//eluceo/ical//2.0/EN
VERSION:2.0
CALSCALE:GREGORIAN
BEGIN:VEVENT
UID:8ad697010016521ce154efd283d806a1
DTSTAMP:20260423T130206Z
SUMMARY:Referat zum Thema Qn'Q... für die Handwerkskunst
DESCRIPTION:Fyrirlesari(ar): Herr Philipp Kuntze
URL:https://rotary-duebendorf.ch/is/agenda/show/55071
DTSTART;TZID=Europe/Zurich:20150923T000000
DTEND;TZID=Europe/Zurich:20150923T000000
LOCATION:Rest. Waldmannsburg
CATEGORIES:Rotary
END:VEVENT
BEGIN:VTIMEZONE
TZID:Europe/Zurich
BEGIN:DAYLIGHT
DTSTART:20150923T000000
TZNAME:CEST
TZOFFSETTO:+0200
TZOFFSETFROM:+0200
END:DAYLIGHT
END:VTIMEZONE
END:VCALENDAR
