BEGIN:VCALENDAR
PRODID:-//eluceo/ical//2.0/EN
VERSION:2.0
CALSCALE:GREGORIAN
BEGIN:VEVENT
UID:5bd67a6a97317090a639d698ef5438aa
DTSTAMP:20260423T130952Z
SUMMARY:Referat zum Thema Immobilien im Glatttal
DESCRIPTION:Fyrirlesari(ar): Her Philipp Keller
URL:https://rotary-duebendorf.ch/is/agenda/show/55070
DTSTART;TZID=Europe/Zurich:20150916T000000
DTEND;TZID=Europe/Zurich:20150916T000000
LOCATION:Rest. Waldmannsburg
CATEGORIES:Rotary
END:VEVENT
BEGIN:VTIMEZONE
TZID:Europe/Zurich
BEGIN:DAYLIGHT
DTSTART:20150916T000000
TZNAME:CEST
TZOFFSETTO:+0200
TZOFFSETFROM:+0200
END:DAYLIGHT
END:VTIMEZONE
END:VCALENDAR
