BEGIN:VCALENDAR
PRODID:-//eluceo/ical//2.0/EN
VERSION:2.0
CALSCALE:GREGORIAN
BEGIN:VEVENT
UID:c97d91ae0b6ffb7fc425220c309a0b87
DTSTAMP:20260421T085418Z
SUMMARY:Einfügung Rotary App / Internet des Rotary
DESCRIPTION:Fyrirlesari(ar): Rot. Rolf Schneider
URL:https://rotary-duebendorf.ch/is/agenda/show/55066
DTSTART;TZID=Europe/Zurich:20150902T000000
DTEND;TZID=Europe/Zurich:20150902T000000
LOCATION:Rest. Waldmannsburg
CATEGORIES:Rotary
END:VEVENT
BEGIN:VTIMEZONE
TZID:Europe/Zurich
BEGIN:DAYLIGHT
DTSTART:20150902T000000
TZNAME:CEST
TZOFFSETTO:+0200
TZOFFSETFROM:+0200
END:DAYLIGHT
END:VTIMEZONE
END:VCALENDAR
