BEGIN:VCALENDAR
PRODID:-//eluceo/ical//2.0/EN
VERSION:2.0
CALSCALE:GREGORIAN
BEGIN:VEVENT
UID:b27adf6edbd55ee3b78c215e92173f86
DTSTAMP:20260425T130003Z
SUMMARY:Dinner
DESCRIPTION:«Warum immer nur Frauen?» - so der interessante Titel des ang
 ekündigten Referats - noch ist das Ziel und die Richtung unklar\, für Sp
 annung ist also gesorgt - sicher scheint sich der Referent aber damit woh
 l nicht ausschliesslich auf Rotary zu beziehen...\nFyrirlesari(ar): Rot. 
 Manfred Kennel (RC Überlingen)\nund als Gast Joachim Hertel (RC Überling
 en)\, designierter Nachfolger von Helmut Spaeter
URL:https://rotary-duebendorf.ch/is/agenda/show/100362
DTSTART;TZID=Europe/Zurich:20190731T190000
DTEND;TZID=Europe/Zurich:20190731T230000
LOCATION:Rest. Waldmannsburg
CATEGORIES:Rotary
END:VEVENT
BEGIN:VTIMEZONE
TZID:Europe/Zurich
BEGIN:DAYLIGHT
DTSTART:20190731T190000
TZNAME:CEST
TZOFFSETTO:+0200
TZOFFSETFROM:+0200
END:DAYLIGHT
END:VTIMEZONE
END:VCALENDAR
