BEGIN:VCALENDAR
PRODID:-//eluceo/ical//2.0/EN
VERSION:2.0
CALSCALE:GREGORIAN
BEGIN:VEVENT
UID:e8b4d7ebb6ac78f41fc5b7da3b843cdc
DTSTAMP:20260421T090804Z
SUMMARY:Lunch
DESCRIPTION:10 Jahre ROKJ - eine rotarische Erfolgsgeschichte\, Rück- und
  Ausblick\nFyrirlesari(ar): Rot. Christian Seeger
URL:https://rotary-duebendorf.ch/is/agenda/show/100361
DTSTART;TZID=Europe/Zurich:20190710T121000
DTEND;TZID=Europe/Zurich:20190710T134500
LOCATION:Rest. Waldmannsburg
CATEGORIES:Rotary
END:VEVENT
BEGIN:VTIMEZONE
TZID:Europe/Zurich
BEGIN:DAYLIGHT
DTSTART:20190710T121000
TZNAME:CEST
TZOFFSETTO:+0200
TZOFFSETFROM:+0200
END:DAYLIGHT
END:VTIMEZONE
END:VCALENDAR
