BEGIN:VCALENDAR
PRODID:-//eluceo/ical//2.0/EN
VERSION:2.0
CALSCALE:GREGORIAN
BEGIN:VEVENT
UID:1eb0d9479aa7cd0be7f0271bd75e74d8
DTSTAMP:20260419T192259Z
SUMMARY:Dinner
DESCRIPTION:«Dear Mamma» wie eine spezielles\, kostenloses App die Brustk
 rebs-Früherkennung in der dritten Welt fördert und unterstützt - eine u
 nglaubliche Geschichte - «YES WE CAN!»\nFyrirlesari(ar): Rot. Sonja Dinn
 er
URL:https://rotary-duebendorf.ch/is/agenda/show/100305
DTSTART;TZID=Europe/Zurich:20190925T190000
DTEND;TZID=Europe/Zurich:20190925T230000
LOCATION:Rest. Waldmannsburg
CATEGORIES:Rotary
END:VEVENT
BEGIN:VTIMEZONE
TZID:Europe/Zurich
BEGIN:DAYLIGHT
DTSTART:20190925T190000
TZNAME:CEST
TZOFFSETTO:+0200
TZOFFSETFROM:+0200
END:DAYLIGHT
END:VTIMEZONE
END:VCALENDAR
