BEGIN:VCALENDAR
PRODID:-//eluceo/ical//2.0/EN
VERSION:2.0
CALSCALE:GREGORIAN
BEGIN:VEVENT
UID:d26a971a19703720869f96f186b1ac37
DTSTAMP:20260425T110005Z
SUMMARY:"Ein Blick auf ADHS" - Zoom-Vortrag von Talina Caviezel
DESCRIPTION:Referent: Dr. med. Martin Bühler\nWebseite: http://www.waldman
 nsburg.ch\nReferenten/innen: Talina Caviezel\, Psychotherapeutin / Psychol
 ogin FSP
URL:https://rotary-duebendorf.ch/de/agenda/show/119290
DTSTART;TZID=Europe/Zurich:20210331T130000
DTEND;TZID=Europe/Zurich:20210331T134500
LOCATION:Rest. Waldmannsburg
CATEGORIES:Rotary
END:VEVENT
BEGIN:VTIMEZONE
TZID:Europe/Zurich
BEGIN:DAYLIGHT
DTSTART:20210331T130000
TZNAME:CEST
TZOFFSETTO:+0200
TZOFFSETFROM:+0200
END:DAYLIGHT
END:VTIMEZONE
END:VCALENDAR
